BEGIN:VCALENDAR
VERSION:2.0
PRODID:-//Habitat for Humanity Tampa Bay Hillsborough - ECPv6.15.20//NONSGML v1.0//EN
CALSCALE:GREGORIAN
METHOD:PUBLISH
X-ORIGINAL-URL:https://www.habitathillsborough.org
X-WR-CALDESC:Events for Habitat for Humanity Tampa Bay Hillsborough
REFRESH-INTERVAL;VALUE=DURATION:PT1H
X-Robots-Tag:noindex
X-PUBLISHED-TTL:PT1H
BEGIN:VTIMEZONE
TZID:America/New_York
BEGIN:DAYLIGHT
TZOFFSETFROM:-0500
TZOFFSETTO:-0400
TZNAME:EDT
DTSTART:20250309T070000
END:DAYLIGHT
BEGIN:STANDARD
TZOFFSETFROM:-0400
TZOFFSETTO:-0500
TZNAME:EST
DTSTART:20251102T060000
END:STANDARD
BEGIN:DAYLIGHT
TZOFFSETFROM:-0500
TZOFFSETTO:-0400
TZNAME:EDT
DTSTART:20260308T070000
END:DAYLIGHT
BEGIN:STANDARD
TZOFFSETFROM:-0400
TZOFFSETTO:-0500
TZNAME:EST
DTSTART:20261101T060000
END:STANDARD
BEGIN:DAYLIGHT
TZOFFSETFROM:-0500
TZOFFSETTO:-0400
TZNAME:EDT
DTSTART:20270314T070000
END:DAYLIGHT
BEGIN:STANDARD
TZOFFSETFROM:-0400
TZOFFSETTO:-0500
TZNAME:EST
DTSTART:20271107T060000
END:STANDARD
END:VTIMEZONE
BEGIN:VTIMEZONE
TZID:UTC
BEGIN:STANDARD
TZOFFSETFROM:+0000
TZOFFSETTO:+0000
TZNAME:UTC
DTSTART:20240101T000000
END:STANDARD
END:VTIMEZONE
BEGIN:VEVENT
DTSTART;TZID=America/New_York:20260417T130000
DTEND;TZID=America/New_York:20260417T190000
DTSTAMP:20260422T135117
CREATED:20260203T142253Z
LAST-MODIFIED:20260303T025507Z
UID:793-1776430800-1776452400@www.habitathillsborough.org
SUMMARY:Pineywoods Golf Tournament
DESCRIPTION:Pineywoods Golf Tournament \no   The Eagles Golf Club 16101 Nine Eagles Dr. Odessa\, FL 33556 \no   1pm \n  \nVISIT EVENT PAGE
URL:https://www.habitathillsborough.org/event/pineywoods-golf-tournament-2/
LOCATION:The Eagles Golf Club 16101 Nine Eagles Dr. Odessa\, FL 33556\, 16101 Nine Eagles\, Odessa\, 33556
END:VEVENT
BEGIN:VEVENT
DTSTART;VALUE=DATE:20260417
DTEND;VALUE=DATE:20260418
DTSTAMP:20260422T135117
CREATED:20260203T142503Z
LAST-MODIFIED:20260203T142503Z
UID:794-1776384000-1776470399@www.habitathillsborough.org
SUMMARY:TBBW Women Who Win Black Tie Gala (sponsored by Habitat Tampa Bay Hillsborough)
DESCRIPTION:  \no   Vinoy Resort: 501 5th Ave NE\, St. Petersburg\, FL 33701 \no   Time: TBD
URL:https://www.habitathillsborough.org/event/tbbw-women-who-win-black-tie-gala-sponsored-by-habitat-tampa-bay-hillsborough/
LOCATION:Vinoy Resort: 501 5th Ave NE\, St. Petersburg\, FL 33701\, 501 5th Avenue NE\,\, St. Petersburg\, Florida\, 33701
END:VEVENT
BEGIN:VEVENT
DTSTART;TZID=America/New_York:20260402T180000
DTEND;TZID=America/New_York:20260402T203000
DTSTAMP:20260422T135117
CREATED:20260303T143459Z
LAST-MODIFIED:20260316T140954Z
UID:826-1775152800-1775161800@www.habitathillsborough.org
SUMMARY:Women Build Tampa Kickoff
DESCRIPTION:Spiral Staircase — 425 N Florida Ave\, FL 33603 \nLearn more here: https://habitathillsborough.salsalabs.org/womenbuild2026/index.html
URL:https://www.habitathillsborough.org/event/women-build-tampa-kickoff/
END:VEVENT
BEGIN:VEVENT
DTSTART;TZID=America/New_York:20260330T073000
DTEND;TZID=America/New_York:20260330T170000
DTSTAMP:20260422T135117
CREATED:20260303T143258Z
LAST-MODIFIED:20260303T143258Z
UID:825-1774855800-1774890000@www.habitathillsborough.org
SUMMARY:Coastal Construction Golf Tournament (Benefiting Habitat TB Hillsborough)
DESCRIPTION:Copperhead Golf Course- 36750 U.S. Highway 19 North Palm Harbor\, FL 34683\n7:30am\nhttps://birdease.com/coastalcflcharitytournament
URL:https://www.habitathillsborough.org/event/coastal-construction-golf-tournament-benefiting-habitat-tb-hillsborough/
END:VEVENT
BEGIN:VEVENT
DTSTART;TZID=America/New_York:20260330T073000
DTEND;TZID=America/New_York:20260330T150000
DTSTAMP:20260422T135117
CREATED:20260203T141900Z
LAST-MODIFIED:20260203T141900Z
UID:789-1774855800-1774882800@www.habitathillsborough.org
SUMMARY:TBBW Women Who Win Honorees Build Day
DESCRIPTION:Week of March 30th – TBD \n Windhorst Commons: 205 W. Windhorst Rd. Brandon\, FL 33510 \no   7:30am
URL:https://www.habitathillsborough.org/event/tbbw-women-who-win-honorees-build-day/
LOCATION:Windhorst Commons: 205 W. Windhorst Rd. Brandon\, FL 33510
END:VEVENT
BEGIN:VEVENT
DTSTART;TZID=America/New_York:20260326T073000
DTEND;TZID=America/New_York:20260326T093000
DTSTAMP:20260422T135117
CREATED:20260303T142927Z
LAST-MODIFIED:20260303T143009Z
UID:824-1774510200-1774517400@www.habitathillsborough.org
SUMMARY:Faith Build | Pope Leo Village Kickoff Breakfast
DESCRIPTION:Portico Tampa: 1001 N Florida Ave\, Tampa\, FL 33602\n7:30am\nhttps://habitathillsborough.salsalabs.org/faithbuild/index.html
URL:https://www.habitathillsborough.org/event/faith-build-pope-leo-village-kickoff-breakfast-2/
END:VEVENT
BEGIN:VEVENT
DTSTART;TZID=America/New_York:20260325T100000
DTEND;TZID=America/New_York:20260325T113000
DTSTAMP:20260422T135117
CREATED:20260303T142723Z
LAST-MODIFIED:20260303T142723Z
UID:823-1774432800-1774438200@www.habitathillsborough.org
SUMMARY:Home Dedication for the Ward Family (sponsored by 1905)
DESCRIPTION:2913 E. 28th Ave Unit 2 Tampa\, FL\n10:00 am
URL:https://www.habitathillsborough.org/event/home-dedication-for-the-ward-family-sponsored-by-1905/
END:VEVENT
BEGIN:VEVENT
DTSTART;VALUE=DATE:20260223
DTEND;VALUE=DATE:20260224
DTSTAMP:20260422T135117
CREATED:20260202T172600Z
LAST-MODIFIED:20260202T172600Z
UID:784-1771804800-1771891199@www.habitathillsborough.org
SUMMARY:Par for a Purpose presented by Diamond Surfaces
DESCRIPTION:o   Hunters Green Country Club  18101 Longwater Run Dr. Tampa\, FL 33647 \no   9:00am
URL:https://www.habitathillsborough.org/event/par-for-a-purpose-presented-by-diamond-surfaces/
LOCATION:Hunters Green Country Club  18101 Longwater Run Dr. Tampa\, FL 33647\, 18101 Longwater Run Dr. Tampa\, FL 33647\, Tampa\, United States
END:VEVENT
BEGIN:VEVENT
DTSTART;TZID=America/New_York:20260219T073000
DTEND;TZID=America/New_York:20260219T093000
DTSTAMP:20260422T135117
CREATED:20260202T192620Z
LAST-MODIFIED:20260202T192620Z
UID:785-1771486200-1771493400@www.habitathillsborough.org
SUMMARY:Faith Build | Pope Leo Village Kickoff Breakfast
DESCRIPTION:  \nPortico Tampa: 1001 N Florida Ave\, Tampa\, FL 33602 \n7:30am
URL:https://www.habitathillsborough.org/event/faith-build-pope-leo-village-kickoff-breakfast/
LOCATION:Portico Tampa 1001 N Florida Avenue Tampa\, Florida 33602
END:VEVENT
BEGIN:VEVENT
DTSTART;TZID=America/New_York:20260206T073000
DTEND;TZID=America/New_York:20260206T130000
DTSTAMP:20260422T135117
CREATED:20251031T201549Z
LAST-MODIFIED:20251125T184941Z
UID:676-1770363000-1770382800@www.habitathillsborough.org
SUMMARY:Breaking Clays & Building Dreams
DESCRIPTION:BREAKING CLAYS\n&\nBUILDING DREAMS\npresented by: \n\n\n\n\n\n\n\n\n\n\n\nFishHawk Sporting Clays\n13505 Hobson Simmons Rd. Lithia\, FL 33547\n\n\n\n\n\n\nFriday\, February 6\, 2026\n9:00 a.m. Tournament Start\nRegistration begins at 7:30 a.m.\n\n\n\nVISIT EVENT PAGE
URL:https://www.habitathillsborough.org/event/clayshoot/
LOCATION:FishHawk Sporting Clays\, 13505 Hobson Simmons Rd.\, Lithia\, FL\, 33547\, United States
ORGANIZER;CN="PCL Construction benefitting Habitat for Humanity of Tampa Bay Hillsborough":MAILTO:rdhabitathillsborough.org
END:VEVENT
BEGIN:VEVENT
DTSTART;TZID=UTC:20251011T073000
DTEND;TZID=UTC:20251011T170000
DTSTAMP:20260422T135117
CREATED:20250611T215919Z
LAST-MODIFIED:20251023T162430Z
UID:75-1760167800-1760202000@www.habitathillsborough.org
SUMMARY:7th Annual Veterans Inshore Slam Fishing Tournament
DESCRIPTION:Join us for the Fishing Tournament of the year!\nSaturday\, October 11\, 2025\nFinn’s Dockside Bar & Grill\nPresented by:\n \n\nInshore Slam Fishing Tournament for Redfish\, Snook & Trout.  \nAll proceeds support Habitat for Humanity of Tampa Bay Hillsborough’s\nVeterans Initiative\, building and repairing homes for U.S. Veterans in need.\n(See Event Schedule below for details) \nFor questions\, please contact Richard at rrogers@habitathillsborough.org\n\nVISIT EVENT PAGE\n 
URL:https://www.habitathillsborough.org/event/7th-annual-veterans-inshore-slam-fishing-tournament/
ATTACH;FMTTYPE=image/jpeg:https://www.habitathillsborough.org/wp-content/uploads/2025/06/fishing.jpg
END:VEVENT
END:VCALENDAR