BEGIN:VCALENDAR
VERSION:2.0
PRODID:-//Habitat for Humanity Tampa Bay Hillsborough - ECPv6.15.20//NONSGML v1.0//EN
CALSCALE:GREGORIAN
METHOD:PUBLISH
X-ORIGINAL-URL:https://www.habitathillsborough.org
X-WR-CALDESC:Events for Habitat for Humanity Tampa Bay Hillsborough
REFRESH-INTERVAL;VALUE=DURATION:PT1H
X-Robots-Tag:noindex
X-PUBLISHED-TTL:PT1H
BEGIN:VTIMEZONE
TZID:America/New_York
BEGIN:DAYLIGHT
TZOFFSETFROM:-0500
TZOFFSETTO:-0400
TZNAME:EDT
DTSTART:20250309T070000
END:DAYLIGHT
BEGIN:STANDARD
TZOFFSETFROM:-0400
TZOFFSETTO:-0500
TZNAME:EST
DTSTART:20251102T060000
END:STANDARD
BEGIN:DAYLIGHT
TZOFFSETFROM:-0500
TZOFFSETTO:-0400
TZNAME:EDT
DTSTART:20260308T070000
END:DAYLIGHT
BEGIN:STANDARD
TZOFFSETFROM:-0400
TZOFFSETTO:-0500
TZNAME:EST
DTSTART:20261101T060000
END:STANDARD
BEGIN:DAYLIGHT
TZOFFSETFROM:-0500
TZOFFSETTO:-0400
TZNAME:EDT
DTSTART:20270314T070000
END:DAYLIGHT
BEGIN:STANDARD
TZOFFSETFROM:-0400
TZOFFSETTO:-0500
TZNAME:EST
DTSTART:20271107T060000
END:STANDARD
END:VTIMEZONE
BEGIN:VEVENT
DTSTART;TZID=America/New_York:20260501T073000
DTEND;TZID=America/New_York:20260501T150000
DTSTAMP:20260424T043032
CREATED:20260202T171347Z
LAST-MODIFIED:20260303T030006Z
UID:779-1777620600-1777647600@www.habitathillsborough.org
SUMMARY:CEO Build Tampa
DESCRIPTION:  \no Windhorst Commons: 205 W. Windhorst Rd. Brandon\, FL 33510\no Shift 1- 7:30am\, Shift 2- 11:30am \nVISIT EVENT PAGE
URL:https://www.habitathillsborough.org/event/ceo-build-tampa/
LOCATION:Windhorst Commons\, 205 W. Windhorst Rd.\, Brandon\, FL\, 33510\, United States
END:VEVENT
BEGIN:VEVENT
DTSTART;TZID=America/New_York:20260502T110000
DTEND;TZID=America/New_York:20260502T120000
DTSTAMP:20260424T043032
CREATED:20260423T160019Z
LAST-MODIFIED:20260423T160019Z
UID:846-1777719600-1777723200@www.habitathillsborough.org
SUMMARY:Home Dedication for the Michelle Range Family
DESCRIPTION:Save the date for the Habitat for Humanity of Tampa Bay Hillsborough Home Dedication for the Michelle Range Family\, sponsored by Verizon. Don’t miss out on this touching moment!
URL:https://www.habitathillsborough.org/event/home-dedication-for-the-michelle-range-family/
LOCATION:Windhorst Commons: 205 W. Windhorst Rd. Brandon\, FL 33510
END:VEVENT
BEGIN:VEVENT
DTSTART;TZID=America/New_York:20260507T180000
DTEND;TZID=America/New_York:20260507T203000
DTSTAMP:20260424T043032
CREATED:20260303T143627Z
LAST-MODIFIED:20260303T143627Z
UID:827-1778176800-1778185800@www.habitathillsborough.org
SUMMARY:Real Estate Build Summer Social
DESCRIPTION:The Vault – 611 N Franklin St.\, Tampa\, Fl  33603 \nReal Estate Build: Summer Social 2026
URL:https://www.habitathillsborough.org/event/real-estate-build-summer-social/
LOCATION:Florida
END:VEVENT
BEGIN:VEVENT
DTSTART;TZID=America/New_York:20260512T100000
DTEND;TZID=America/New_York:20260512T110000
DTSTAMP:20260424T043032
CREATED:20260423T160935Z
LAST-MODIFIED:20260423T160935Z
UID:849-1778580000-1778583600@www.habitathillsborough.org
SUMMARY:Home Dedication for the Natalie Sanchez Family
DESCRIPTION:Save the date and don’t miss out on this touching moment for the Habitat for Humanity of Tampa Bay Hillsborough Home Dedication for the Natalie Sanchez Family\, sponsored by Central Bank.
URL:https://www.habitathillsborough.org/event/home-dedication-for-the-natalie-sanchez-family/
LOCATION:Windhorst Commons: 205 W. Windhorst Rd. Brandon\, FL 33510
END:VEVENT
BEGIN:VEVENT
DTSTART;TZID=America/New_York:20260514T100000
DTEND;TZID=America/New_York:20260514T110000
DTSTAMP:20260424T043032
CREATED:20260423T161127Z
LAST-MODIFIED:20260423T161127Z
UID:851-1778752800-1778756400@www.habitathillsborough.org
SUMMARY:Home Dedication for the Paris Johnson Family
DESCRIPTION:Save the date for the Habitat for Humanity of Tampa Bay Hillsborough Home Dedication for the Paris Johnson Family\, sponsored by AJAX Paving. Don’t miss out on this touching moment!
URL:https://www.habitathillsborough.org/event/home-dedication-for-the-paris-johnson-family/
LOCATION:Windhorst Commons: 205 W. Windhorst Rd. Brandon\, FL 33510
END:VEVENT
BEGIN:VEVENT
DTSTART;TZID=America/New_York:20260519T100000
DTEND;TZID=America/New_York:20260519T110000
DTSTAMP:20260424T043032
CREATED:20260423T161310Z
LAST-MODIFIED:20260423T161310Z
UID:853-1779184800-1779188400@www.habitathillsborough.org
SUMMARY:Real Estate Build Home Dedication for the Meg Gruffman Family
DESCRIPTION:Save the date for the Habitat for Humanity of Tampa Bay Hillsborough Home Dedication for the Meg Gruffman Family\, don’t miss out on this touching moment!
URL:https://www.habitathillsborough.org/event/real-estate-build-home-dedication-for-the-meg-gruffman-family/
LOCATION:Windhorst Commons: 205 W. Windhorst Rd. Brandon\, FL 33510
END:VEVENT
END:VCALENDAR