BEGIN:VCALENDAR
VERSION:2.0
PRODID:-//Habitat for Humanity Tampa Bay Hillsborough - ECPv6.15.20//NONSGML v1.0//EN
CALSCALE:GREGORIAN
METHOD:PUBLISH
X-ORIGINAL-URL:https://www.habitathillsborough.org
X-WR-CALDESC:Events for Habitat for Humanity Tampa Bay Hillsborough
REFRESH-INTERVAL;VALUE=DURATION:PT1H
X-Robots-Tag:noindex
X-PUBLISHED-TTL:PT1H
BEGIN:VTIMEZONE
TZID:UTC
BEGIN:STANDARD
TZOFFSETFROM:+0000
TZOFFSETTO:+0000
TZNAME:UTC
DTSTART:20240101T000000
END:STANDARD
END:VTIMEZONE
BEGIN:VEVENT
DTSTART;TZID=UTC:20251011T073000
DTEND;TZID=UTC:20251011T170000
DTSTAMP:20260422T154312
CREATED:20250611T215919Z
LAST-MODIFIED:20251023T162430Z
UID:75-1760167800-1760202000@www.habitathillsborough.org
SUMMARY:7th Annual Veterans Inshore Slam Fishing Tournament
DESCRIPTION:Join us for the Fishing Tournament of the year!\nSaturday\, October 11\, 2025\nFinn’s Dockside Bar & Grill\nPresented by:\n \n\nInshore Slam Fishing Tournament for Redfish\, Snook & Trout.  \nAll proceeds support Habitat for Humanity of Tampa Bay Hillsborough’s\nVeterans Initiative\, building and repairing homes for U.S. Veterans in need.\n(See Event Schedule below for details) \nFor questions\, please contact Richard at rrogers@habitathillsborough.org\n\nVISIT EVENT PAGE\n 
URL:https://www.habitathillsborough.org/event/7th-annual-veterans-inshore-slam-fishing-tournament/
ATTACH;FMTTYPE=image/jpeg:https://www.habitathillsborough.org/wp-content/uploads/2025/06/fishing.jpg
END:VEVENT
END:VCALENDAR